BEGIN:VCALENDAR
VERSION:2.0
PRODID:-//Tulsa Air &amp; Space Museum - ECPv6.15.20//NONSGML v1.0//EN
CALSCALE:GREGORIAN
METHOD:PUBLISH
X-WR-CALNAME:Tulsa Air &amp; Space Museum
X-ORIGINAL-URL:https://www.tulsamuseum.org
X-WR-CALDESC:Events for Tulsa Air &amp; Space Museum
REFRESH-INTERVAL;VALUE=DURATION:PT1H
X-Robots-Tag:noindex
X-PUBLISHED-TTL:PT1H
BEGIN:VTIMEZONE
TZID:America/Chicago
BEGIN:DAYLIGHT
TZOFFSETFROM:-0600
TZOFFSETTO:-0500
TZNAME:CDT
DTSTART:20230312T080000
END:DAYLIGHT
BEGIN:STANDARD
TZOFFSETFROM:-0500
TZOFFSETTO:-0600
TZNAME:CST
DTSTART:20231105T070000
END:STANDARD
BEGIN:DAYLIGHT
TZOFFSETFROM:-0600
TZOFFSETTO:-0500
TZNAME:CDT
DTSTART:20240310T080000
END:DAYLIGHT
BEGIN:STANDARD
TZOFFSETFROM:-0500
TZOFFSETTO:-0600
TZNAME:CST
DTSTART:20241103T070000
END:STANDARD
BEGIN:DAYLIGHT
TZOFFSETFROM:-0600
TZOFFSETTO:-0500
TZNAME:CDT
DTSTART:20250309T080000
END:DAYLIGHT
BEGIN:STANDARD
TZOFFSETFROM:-0500
TZOFFSETTO:-0600
TZNAME:CST
DTSTART:20251102T070000
END:STANDARD
END:VTIMEZONE
BEGIN:VEVENT
DTSTART;TZID=America/Chicago:20240806T093000
DTEND;TZID=America/Chicago:20240806T103000
DTSTAMP:20260425T082327
CREATED:20240731T204233Z
LAST-MODIFIED:20240828T163912Z
UID:10000565-1722936600-1722940200@www.tulsamuseum.org
SUMMARY:Toddler Time!
DESCRIPTION:Join us Tuesdays + Thursdays in August for Toddler Time! \n			\n				\n				\n				\n				\n				We open at 9:30 for toddlers and families. Playground is 4 & under only until 10:30. Activity varies but will be available starting at 9:30! \nAdult: $5\, Toddler: $3
URL:https://www.tulsamuseum.org/event/toddlers/2024-08-06/
LOCATION:Tulsa Air and Space Museum & Planetarium\, 3624 N 74th East Ave\, Tulsa\, OK\, 74115\, United States
CATEGORIES:For the Family
ATTACH;FMTTYPE=image/png:https://www.tulsamuseum.org/wp-content/uploads/2024/07/Slideshow-Size-1.png
END:VEVENT
BEGIN:VEVENT
DTSTART;TZID=America/Chicago:20240808T093000
DTEND;TZID=America/Chicago:20240808T103000
DTSTAMP:20260425T082327
CREATED:20240731T204233Z
LAST-MODIFIED:20240828T163912Z
UID:10000566-1723109400-1723113000@www.tulsamuseum.org
SUMMARY:Toddler Time!
DESCRIPTION:Join us Tuesdays + Thursdays in August for Toddler Time! \n			\n				\n				\n				\n				\n				We open at 9:30 for toddlers and families. Playground is 4 & under only until 10:30. Activity varies but will be available starting at 9:30! \nAdult: $5\, Toddler: $3
URL:https://www.tulsamuseum.org/event/toddlers/2024-08-08/
LOCATION:Tulsa Air and Space Museum & Planetarium\, 3624 N 74th East Ave\, Tulsa\, OK\, 74115\, United States
CATEGORIES:For the Family
ATTACH;FMTTYPE=image/png:https://www.tulsamuseum.org/wp-content/uploads/2024/07/Slideshow-Size-1.png
END:VEVENT
BEGIN:VEVENT
DTSTART;TZID=America/Chicago:20240813T093000
DTEND;TZID=America/Chicago:20240813T103000
DTSTAMP:20260425T082327
CREATED:20240731T204233Z
LAST-MODIFIED:20240828T163912Z
UID:10000567-1723541400-1723545000@www.tulsamuseum.org
SUMMARY:Toddler Time!
DESCRIPTION:Join us Tuesdays + Thursdays in August for Toddler Time! \n			\n				\n				\n				\n				\n				We open at 9:30 for toddlers and families. Playground is 4 & under only until 10:30. Activity varies but will be available starting at 9:30! \nAdult: $5\, Toddler: $3
URL:https://www.tulsamuseum.org/event/toddlers/2024-08-13/
LOCATION:Tulsa Air and Space Museum & Planetarium\, 3624 N 74th East Ave\, Tulsa\, OK\, 74115\, United States
CATEGORIES:For the Family
ATTACH;FMTTYPE=image/png:https://www.tulsamuseum.org/wp-content/uploads/2024/07/Slideshow-Size-1.png
END:VEVENT
BEGIN:VEVENT
DTSTART;TZID=America/Chicago:20240814T140000
DTEND;TZID=America/Chicago:20240814T160000
DTSTAMP:20260425T082327
CREATED:20240731T200648Z
LAST-MODIFIED:20240802T161104Z
UID:10000563-1723644000-1723651200@www.tulsamuseum.org
SUMMARY:Miss America 2024\, Lt. Madison Marsh at TASM!
DESCRIPTION:Tulsa Air and Space Museum is proud to welcome 2nd Lt. Madison Marsh\, our reigning Miss America! \n			\n				\n				\n				\n				\n				Miss America 2024 Madison Marsh\, Miss Colorado\, is coming to Tulsa Air and Space Museum! Lt. Marsh is a graduate of the Air Force Academy and is pursuing a master’s degree in public policy at Harvard University. She is a 2nd Lieutenant in the United States Air Force – the first active duty service member to be crowned Miss America. \nJoin us for this special event!  A limited number of tickets are available. Admission is free\, RSVP required. \n			\n				Click Here to RSVP
URL:https://www.tulsamuseum.org/event/missamerica2024/
LOCATION:Tulsa Air and Space Museum & Planetarium\, 3624 N 74th East Ave\, Tulsa\, OK\, 74115\, United States
CATEGORIES:Special Events
ATTACH;FMTTYPE=image/jpeg:https://www.tulsamuseum.org/wp-content/uploads/2024/07/MISS-AMERICA-CC-EVENT-HEADER-2.jpg
END:VEVENT
BEGIN:VEVENT
DTSTART;TZID=America/Chicago:20240815T093000
DTEND;TZID=America/Chicago:20240815T103000
DTSTAMP:20260425T082327
CREATED:20240731T204233Z
LAST-MODIFIED:20240828T163912Z
UID:10000568-1723714200-1723717800@www.tulsamuseum.org
SUMMARY:Toddler Time!
DESCRIPTION:Join us Tuesdays + Thursdays in August for Toddler Time! \n			\n				\n				\n				\n				\n				We open at 9:30 for toddlers and families. Playground is 4 & under only until 10:30. Activity varies but will be available starting at 9:30! \nAdult: $5\, Toddler: $3
URL:https://www.tulsamuseum.org/event/toddlers/2024-08-15/
LOCATION:Tulsa Air and Space Museum & Planetarium\, 3624 N 74th East Ave\, Tulsa\, OK\, 74115\, United States
CATEGORIES:For the Family
ATTACH;FMTTYPE=image/png:https://www.tulsamuseum.org/wp-content/uploads/2024/07/Slideshow-Size-1.png
END:VEVENT
BEGIN:VEVENT
DTSTART;TZID=America/Chicago:20240817T110000
DTEND;TZID=America/Chicago:20240817T150000
DTSTAMP:20260425T082327
CREATED:20240801T214906Z
LAST-MODIFIED:20240802T204711Z
UID:10000677-1723892400-1723906800@www.tulsamuseum.org
SUMMARY:Takeoff Party! Back to School with TASM
DESCRIPTION:Celebrate a new school year with us! \nDress up in your best aviator costume\, and we will enter your name in a drawing for a FREE birthday party at TASM!Runner up prizes include Aviator Membership (Family – 2 available) and 50% coupon for a birthday party (3 available). \nActivities include stomp rockets\, paper airplane contest\, photo booth\, food trucks\, popsicles\, and more! \n*Planetarium show not included\, but can be purchased separately.**Members may attend for free\, but in order to enter the raffle you must purchase a ticket. Thank you! \n			\n				Get Tickets Now!
URL:https://www.tulsamuseum.org/event/back2school24/
LOCATION:Tulsa Air and Space Museum & Planetarium\, 3624 N 74th East Ave\, Tulsa\, OK\, 74115\, United States
CATEGORIES:Special Events
ATTACH;FMTTYPE=image/png:https://www.tulsamuseum.org/wp-content/uploads/2024/08/Slideshow-Size.png
END:VEVENT
BEGIN:VEVENT
DTSTART;TZID=America/Chicago:20240820T093000
DTEND;TZID=America/Chicago:20240820T103000
DTSTAMP:20260425T082327
CREATED:20240731T204233Z
LAST-MODIFIED:20240828T163912Z
UID:10000569-1724146200-1724149800@www.tulsamuseum.org
SUMMARY:Toddler Time!
DESCRIPTION:Join us Tuesdays + Thursdays in August for Toddler Time! \n			\n				\n				\n				\n				\n				We open at 9:30 for toddlers and families. Playground is 4 & under only until 10:30. Activity varies but will be available starting at 9:30! \nAdult: $5\, Toddler: $3
URL:https://www.tulsamuseum.org/event/toddlers/2024-08-20/
LOCATION:Tulsa Air and Space Museum & Planetarium\, 3624 N 74th East Ave\, Tulsa\, OK\, 74115\, United States
CATEGORIES:For the Family
ATTACH;FMTTYPE=image/png:https://www.tulsamuseum.org/wp-content/uploads/2024/07/Slideshow-Size-1.png
END:VEVENT
BEGIN:VEVENT
DTSTART;TZID=America/Chicago:20240822T093000
DTEND;TZID=America/Chicago:20240822T103000
DTSTAMP:20260425T082327
CREATED:20240731T204233Z
LAST-MODIFIED:20240828T163912Z
UID:10000570-1724319000-1724322600@www.tulsamuseum.org
SUMMARY:Toddler Time!
DESCRIPTION:Join us Tuesdays + Thursdays in August for Toddler Time! \n			\n				\n				\n				\n				\n				We open at 9:30 for toddlers and families. Playground is 4 & under only until 10:30. Activity varies but will be available starting at 9:30! \nAdult: $5\, Toddler: $3
URL:https://www.tulsamuseum.org/event/toddlers/2024-08-22/
LOCATION:Tulsa Air and Space Museum & Planetarium\, 3624 N 74th East Ave\, Tulsa\, OK\, 74115\, United States
CATEGORIES:For the Family
ATTACH;FMTTYPE=image/png:https://www.tulsamuseum.org/wp-content/uploads/2024/07/Slideshow-Size-1.png
END:VEVENT
BEGIN:VEVENT
DTSTART;TZID=America/Chicago:20240827T093000
DTEND;TZID=America/Chicago:20240827T103000
DTSTAMP:20260425T082328
CREATED:20240731T204233Z
LAST-MODIFIED:20240828T163912Z
UID:10000571-1724751000-1724754600@www.tulsamuseum.org
SUMMARY:Toddler Time!
DESCRIPTION:Join us Tuesdays + Thursdays in August for Toddler Time! \n			\n				\n				\n				\n				\n				We open at 9:30 for toddlers and families. Playground is 4 & under only until 10:30. Activity varies but will be available starting at 9:30! \nAdult: $5\, Toddler: $3
URL:https://www.tulsamuseum.org/event/toddlers/2024-08-27/
LOCATION:Tulsa Air and Space Museum & Planetarium\, 3624 N 74th East Ave\, Tulsa\, OK\, 74115\, United States
CATEGORIES:For the Family
ATTACH;FMTTYPE=image/png:https://www.tulsamuseum.org/wp-content/uploads/2024/07/Slideshow-Size-1.png
END:VEVENT
BEGIN:VEVENT
DTSTART;TZID=America/Chicago:20240829T093000
DTEND;TZID=America/Chicago:20240829T103000
DTSTAMP:20260425T082328
CREATED:20240731T204233Z
LAST-MODIFIED:20240828T163912Z
UID:10000572-1724923800-1724927400@www.tulsamuseum.org
SUMMARY:Toddler Time!
DESCRIPTION:Join us Tuesdays + Thursdays in August for Toddler Time! \n			\n				\n				\n				\n				\n				We open at 9:30 for toddlers and families. Playground is 4 & under only until 10:30. Activity varies but will be available starting at 9:30! \nAdult: $5\, Toddler: $3
URL:https://www.tulsamuseum.org/event/toddlers/2024-08-29/
LOCATION:Tulsa Air and Space Museum & Planetarium\, 3624 N 74th East Ave\, Tulsa\, OK\, 74115\, United States
CATEGORIES:For the Family
ATTACH;FMTTYPE=image/png:https://www.tulsamuseum.org/wp-content/uploads/2024/07/Slideshow-Size-1.png
END:VEVENT
END:VCALENDAR