BEGIN:VCALENDAR
VERSION:2.0
PRODID:-//Tulsa Air &amp; Space Museum - ECPv6.15.20//NONSGML v1.0//EN
CALSCALE:GREGORIAN
METHOD:PUBLISH
X-WR-CALNAME:Tulsa Air &amp; Space Museum
X-ORIGINAL-URL:https://www.tulsamuseum.org
X-WR-CALDESC:Events for Tulsa Air &amp; Space Museum
REFRESH-INTERVAL;VALUE=DURATION:PT1H
X-Robots-Tag:noindex
X-PUBLISHED-TTL:PT1H
BEGIN:VTIMEZONE
TZID:America/Chicago
BEGIN:DAYLIGHT
TZOFFSETFROM:-0600
TZOFFSETTO:-0500
TZNAME:CDT
DTSTART:20230312T080000
END:DAYLIGHT
BEGIN:STANDARD
TZOFFSETFROM:-0500
TZOFFSETTO:-0600
TZNAME:CST
DTSTART:20231105T070000
END:STANDARD
BEGIN:DAYLIGHT
TZOFFSETFROM:-0600
TZOFFSETTO:-0500
TZNAME:CDT
DTSTART:20240310T080000
END:DAYLIGHT
BEGIN:STANDARD
TZOFFSETFROM:-0500
TZOFFSETTO:-0600
TZNAME:CST
DTSTART:20241103T070000
END:STANDARD
BEGIN:DAYLIGHT
TZOFFSETFROM:-0600
TZOFFSETTO:-0500
TZNAME:CDT
DTSTART:20250309T080000
END:DAYLIGHT
BEGIN:STANDARD
TZOFFSETFROM:-0500
TZOFFSETTO:-0600
TZNAME:CST
DTSTART:20251102T070000
END:STANDARD
END:VTIMEZONE
BEGIN:VEVENT
DTSTART;TZID=America/Chicago:20241018T090000
DTEND;TZID=America/Chicago:20241020T160000
DTSTAMP:20260421T222741
CREATED:20240830T175811Z
LAST-MODIFIED:20241020T131505Z
UID:10000733-1729242000-1729440000@www.tulsamuseum.org
SUMMARY:B-29 Doc at TASM
DESCRIPTION:Doc is available for Ground/Cockpit tours on Friday from 10am-4pm\, Saturday from 12:30-4:30\, and Sunday from 12:30-3:30. \nOutside of these times\, Doc may not be available to see up close due to crew schedules. \nUpdate: Due to maintenence\, Doc is needing to end tours at 3:30 on Sunday. We apologize for the inconvenience — but we look forward to seeing you! \n			\n			\n				\n				\n				\n				\n			\n				\n				\n				\n				\n				\n				\n				\n				\n				\n				\n				B-29 Doc is coming to Tulsa!\n			\n				\n				\n				\n				\n				Doc is a B-29 Superfortress and one of 1\,644 manufactured in Wichita during World War II. Over the past 15+ years\, hundreds of volunteers have worked on Doc and the restoration project. \nCome and see this iconic warbird for one weekend only! Purchase tickets for rides or cockpit tours at the links below. \n			\n				\n				\n				\n				\n				\n			\n			\n				\n				\n				\n				\n				\n				\n				\n				\n				\n				Admission PRICES\n			\n				\n				\n				\n				\n				Admission for this special event includes access to the exhibit hall\, cockpit tours of the visiting planes\, and one (1) planetarium show of your choice. \n			\n				\n				\n				\n				\n				Adult (13 & up) $20Youth (5-12) $10Child (4 & under) FreeTASM members $10 (with membership card\, when purchased in person) \n			\n				\n				\n				\n				\n				Please note: Through an agreement with the visiting aircraft\, coupons cannot be accepted. TASM members will get a discounted entry rate\, not free of charge. All admission prices are subject to sales tax. \n			\n				Admission Tickets\n			\n				Book a Ride!\n			\n			\n				\n				\n				\n				\n			\n				\n				\n			\n				\n				\n				\n				\n				\n				\n				\n				\n				\n				\n				\n				\n				\n				\n				\n				\n				\n				SPONSORED BY
URL:https://www.tulsamuseum.org/event/b-29doc/
LOCATION:Tulsa Air and Space Museum & Planetarium\, 3624 N 74th East Ave\, Tulsa\, OK\, 74115\, United States
CATEGORIES:For the Family,Special Events,Visiting Warbirds
ATTACH;FMTTYPE=image/jpeg:https://www.tulsamuseum.org/wp-content/uploads/2024/08/B29-Doc-Oct-18-20-2024.jpg
END:VEVENT
BEGIN:VEVENT
DTSTART;TZID=America/Chicago:20241022T093000
DTEND;TZID=America/Chicago:20241022T103000
DTSTAMP:20260421T222741
CREATED:20241002T205630Z
LAST-MODIFIED:20241002T205914Z
UID:10000984-1729589400-1729593000@www.tulsamuseum.org
SUMMARY:Toddler Time!
DESCRIPTION:Join us for Toddler Time at TASM!\n			\n				\n				\n				\n				\n				Tuesdays at 9:45 — Enjoy engaging story time that takes your little ones on a cosmic adventure! \nThursdays 9:30-10:00 — Hands-on activities available that spark curiosity and creativity. \nThe ultimate experience for young explorers awaits! \nAdults $5 Toddlers $3 Infants 2 & under free!
URL:https://www.tulsamuseum.org/event/toddler-time/2024-10-22/
LOCATION:Tulsa Air and Space Museum & Planetarium\, 3624 N 74th East Ave\, Tulsa\, OK\, 74115\, United States
CATEGORIES:For the Family
ATTACH;FMTTYPE=image/png:https://www.tulsamuseum.org/wp-content/uploads/2024/07/toddler.png
END:VEVENT
BEGIN:VEVENT
DTSTART;TZID=America/Chicago:20241023T100000
DTEND;TZID=America/Chicago:20241023T160000
DTSTAMP:20260421T222741
CREATED:20241002T152125Z
LAST-MODIFIED:20241002T200912Z
UID:10000752-1729677600-1729699200@www.tulsamuseum.org
SUMMARY:Homeschool Hub
DESCRIPTION:Families\, we want to support you! \n			\n				\n				\n				\n				\n				 Whether you are a single family or a co-op\, we would love to have you here at TASM on Wednesdays. Let us be an aide in your learning experience!  Come and see all that aviation and aerospace has to offer for your student. \nPrice: $2/person for museum entry; $2/person for one planetarium show$2/student (ages 12-18) for 30 min flight lab access! \nOptional activities with additional fee may vary from week to week\, such as stomp rockets\, 3D printers\, physics of flight\, etc.Students and children must be supervised by a guardian at all times.
URL:https://www.tulsamuseum.org/event/homeschool/2024-10-23/
LOCATION:Tulsa Air and Space Museum & Planetarium\, 3624 N 74th East Ave\, Tulsa\, OK\, 74115\, United States
CATEGORIES:For the Family
ATTACH;FMTTYPE=image/png:https://www.tulsamuseum.org/wp-content/uploads/2024/10/Slideshow-Size-8.png
END:VEVENT
BEGIN:VEVENT
DTSTART;TZID=America/Chicago:20241024T093000
DTEND;TZID=America/Chicago:20241024T103000
DTSTAMP:20260421T222741
CREATED:20241002T205630Z
LAST-MODIFIED:20241002T205914Z
UID:10000985-1729762200-1729765800@www.tulsamuseum.org
SUMMARY:Toddler Time!
DESCRIPTION:Join us for Toddler Time at TASM!\n			\n				\n				\n				\n				\n				Tuesdays at 9:45 — Enjoy engaging story time that takes your little ones on a cosmic adventure! \nThursdays 9:30-10:00 — Hands-on activities available that spark curiosity and creativity. \nThe ultimate experience for young explorers awaits! \nAdults $5 Toddlers $3 Infants 2 & under free!
URL:https://www.tulsamuseum.org/event/toddler-time/2024-10-24/
LOCATION:Tulsa Air and Space Museum & Planetarium\, 3624 N 74th East Ave\, Tulsa\, OK\, 74115\, United States
CATEGORIES:For the Family
ATTACH;FMTTYPE=image/png:https://www.tulsamuseum.org/wp-content/uploads/2024/07/toddler.png
END:VEVENT
BEGIN:VEVENT
DTSTART;TZID=America/Chicago:20241026T090000
DTEND;TZID=America/Chicago:20241027T160000
DTSTAMP:20260421T222741
CREATED:20240531T181059Z
LAST-MODIFIED:20250922T200043Z
UID:10000556-1729933200-1730044800@www.tulsamuseum.org
SUMMARY:A-26 Lady Liberty
DESCRIPTION:A-26 Invader "Lady Liberty"\n			\n				\n				\n				\n				\n				Our Lady is the oldest flying Invader\, the 130th one produced\, being accepted in Aug\, 1944\, at Long Beach\, CA. It was flown to Great Dunmow\, England arriving 20 Sep\, 1944. It was assigned to the 9th AF\, 410th BG and began combat operations in early 1945. \nThe Douglas A-26 Invader (designated B-26 between 1948 and 1965) is a twin-engined light bomber and ground attack aircraft that was built by Douglas Aircraft Company during World War II which also saw service during several major Cold War conflicts. A limited number of highly modified United States Air Force aircraft served in Southeast Asia until 1969. It was a fast aircraft capable of carrying twice its specified bomb load. A range of guns could be fitted to produce a formidable ground-attack aircraft. \n			\n			\n				\n				\n				\n				\n				\n				\n				\n				\n				\n				Admission PRICES\n			\n				\n				\n				\n				\n				Admission for this special event includes access to the exhibit hall\, cockpit tours of the visiting plane\, and one (1) planetarium show of your choice. \n			\n				\n				\n				\n				\n				Adult (13 & up) $20Youth (5-12) $10Child (4 & under) FreeTASM members $10 (with membership card\, when purchased in person) \n			\n				\n				\n				\n				\n				Please note: Through an agreement with the visiting aircraft\, coupons cannot be accepted. TASM members will get a discounted entry rate\, not free of charge. All admission prices are subject to sales tax. \n			\n			\n				\n				\n				\n				\n			\n				\n				\n				\n				\n				\n				\n				Admission Tickets
URL:https://www.tulsamuseum.org/event/a-26-lady-liberty-2/
LOCATION:Tulsa Air and Space Museum & Planetarium\, 3624 N 74th East Ave\, Tulsa\, OK\, 74115\, United States
CATEGORIES:For the Family,Special Events,Visiting Warbirds
END:VEVENT
BEGIN:VEVENT
DTSTART;TZID=America/Chicago:20241026T100000
DTEND;TZID=America/Chicago:20241026T160000
DTSTAMP:20260421T222741
CREATED:20240830T203500Z
LAST-MODIFIED:20241025T132144Z
UID:10000735-1729936800-1729958400@www.tulsamuseum.org
SUMMARY:FALL FESTIVAL 2024
DESCRIPTION:Buy Tickets\n			\n			\n				\n				\n				\n				\n				\n				\n				\n				\n				\n				It’s time for TASM’s annual Fall Festival! \nThis year\, we have the A-26 Lady Liberty on display for cockpit tours in addition to the Trunk or Treat and the CASI Chili Cook-off. You may even see some festival games such as cornhole\, pumpkin painting\, face painting and more! \n			\n				\n				\n				\n				\n				Adult (13 & up) $20Youth (5-12) $10Child (4 & under) FreeTASM members $10(with membership card\, when purchased in person) \n			\n				\n				\n				\n				\n				Admission for this special event includes access to the exhibit hall\, cockpit tour of the visiting plane\, and one (1) planetarium show of your choice. \n			\n				\n				\n				\n				\n				Please note: Through an agreement with the CAF\, coupons cannot be accepted. TASM members will get a discounted entry rate\, not free of charge. All admission prices are subject to sales tax.
URL:https://www.tulsamuseum.org/event/fall-festival-2024/
LOCATION:Tulsa Air and Space Museum & Planetarium\, 3624 N 74th East Ave\, Tulsa\, OK\, 74115\, United States
CATEGORIES:For the Family,Special Events
ATTACH;FMTTYPE=image/png:https://www.tulsamuseum.org/wp-content/uploads/2024/08/fall-fest.png
END:VEVENT
BEGIN:VEVENT
DTSTART;TZID=America/Chicago:20241026T163000
DTEND;TZID=America/Chicago:20241026T203000
DTSTAMP:20260421T222741
CREATED:20240903T142911Z
LAST-MODIFIED:20241202T205438Z
UID:10000743-1729960200-1729974600@www.tulsamuseum.org
SUMMARY:Beautifica
DESCRIPTION:
URL:https://www.tulsamuseum.org/event/beautifica360/2024-10-26/
LOCATION:Tulsa Air and Space Museum & Planetarium\, 3624 N 74th East Ave\, Tulsa\, OK\, 74115\, United States
CATEGORIES:Mesmerica,Planetarium
ATTACH;FMTTYPE=image/png:https://www.tulsamuseum.org/wp-content/uploads/2024/08/Screenshot-2024-08-20-140554.png
ORGANIZER;CN="James Hood":MAILTO:boxoffice@jameshood.com
END:VEVENT
BEGIN:VEVENT
DTSTART;TZID=America/Chicago:20241026T170000
DTEND;TZID=America/Chicago:20241026T213000
DTSTAMP:20260421T222741
CREATED:20240611T202221Z
LAST-MODIFIED:20241022T173532Z
UID:10000557-1729962000-1729978200@www.tulsamuseum.org
SUMMARY:Pacific Hangar Dance with Live Orchestra Music - Family Friendly
DESCRIPTION:Purchase Tickets\n			\n				\n				\n				\n				\n				\n			\n			\n				\n				\n				\n				\n				\n				\n				\n				\n				\n				\n				\n				\n				\n				\n				\n				Join us for an unforgettable evening celebrating the 1940s! Immerse yourself in the lively USO ambiance\, groove to the captivating live music by the Sounds of Music Orchestra. Strike a pose at our Frame Foto Lounge\, unwind in the laid-back Liberty Lagoon Lounge\, satisfy your sweet tooth at the Stars & Sweets dessert bar and explore our Confectionery Commissary candy station and pen a letter to a solider at our Deployed Letter Depot. This event promises a blend of nostalgia\, entertainment\, and heartfelt celebration! \nMembers get 50% off ticket prices when purchased in person!  \n  \n			\n			\n				\n				\n				\n				\n			\n			\n				\n				\n				\n				\n				\n				\n				\n				\n				\n				\n			\n				Sponsorship Opportunities
URL:https://www.tulsamuseum.org/event/pacific-hangar-dance/
LOCATION:Tulsa Air and Space Museum & Planetarium\, 3624 N 74th East Ave\, Tulsa\, OK\, 74115\, United States
CATEGORIES:For the Family,Special Events
ATTACH;FMTTYPE=image/png:https://www.tulsamuseum.org/wp-content/uploads/2024/08/Hangar-Dance-2024.png
END:VEVENT
END:VCALENDAR