BEGIN:VCALENDAR
VERSION:2.0
PRODID:-//Tulsa Air &amp; Space Museum - ECPv6.15.20//NONSGML v1.0//EN
CALSCALE:GREGORIAN
METHOD:PUBLISH
X-ORIGINAL-URL:https://www.tulsamuseum.org
X-WR-CALDESC:Events for Tulsa Air &amp; Space Museum
REFRESH-INTERVAL;VALUE=DURATION:PT1H
X-Robots-Tag:noindex
X-PUBLISHED-TTL:PT1H
BEGIN:VTIMEZONE
TZID:America/Chicago
BEGIN:DAYLIGHT
TZOFFSETFROM:-0600
TZOFFSETTO:-0500
TZNAME:CDT
DTSTART:20230312T080000
END:DAYLIGHT
BEGIN:STANDARD
TZOFFSETFROM:-0500
TZOFFSETTO:-0600
TZNAME:CST
DTSTART:20231105T070000
END:STANDARD
BEGIN:DAYLIGHT
TZOFFSETFROM:-0600
TZOFFSETTO:-0500
TZNAME:CDT
DTSTART:20240310T080000
END:DAYLIGHT
BEGIN:STANDARD
TZOFFSETFROM:-0500
TZOFFSETTO:-0600
TZNAME:CST
DTSTART:20241103T070000
END:STANDARD
BEGIN:DAYLIGHT
TZOFFSETFROM:-0600
TZOFFSETTO:-0500
TZNAME:CDT
DTSTART:20250309T080000
END:DAYLIGHT
BEGIN:STANDARD
TZOFFSETFROM:-0500
TZOFFSETTO:-0600
TZNAME:CST
DTSTART:20251102T070000
END:STANDARD
END:VTIMEZONE
BEGIN:VEVENT
DTSTART;TZID=America/Chicago:20241105T093000
DTEND;TZID=America/Chicago:20241105T103000
DTSTAMP:20260421T203751
CREATED:20241002T205630Z
LAST-MODIFIED:20241002T205914Z
UID:10000988-1730799000-1730802600@www.tulsamuseum.org
SUMMARY:Toddler Time!
DESCRIPTION:Join us for Toddler Time at TASM!\n			\n				\n				\n				\n				\n				Tuesdays at 9:45 — Enjoy engaging story time that takes your little ones on a cosmic adventure! \nThursdays 9:30-10:00 — Hands-on activities available that spark curiosity and creativity. \nThe ultimate experience for young explorers awaits! \nAdults $5 Toddlers $3 Infants 2 & under free!
URL:https://www.tulsamuseum.org/event/toddler-time/2024-11-05/
LOCATION:Tulsa Air and Space Museum & Planetarium\, 3624 N 74th East Ave\, Tulsa\, OK\, 74115\, United States
CATEGORIES:For the Family
ATTACH;FMTTYPE=image/png:https://www.tulsamuseum.org/wp-content/uploads/2024/07/toddler.png
END:VEVENT
BEGIN:VEVENT
DTSTART;TZID=America/Chicago:20241106T100000
DTEND;TZID=America/Chicago:20241106T160000
DTSTAMP:20260421T203751
CREATED:20241002T152125Z
LAST-MODIFIED:20241002T200912Z
UID:10000754-1730887200-1730908800@www.tulsamuseum.org
SUMMARY:Homeschool Hub
DESCRIPTION:Families\, we want to support you! \n			\n				\n				\n				\n				\n				 Whether you are a single family or a co-op\, we would love to have you here at TASM on Wednesdays. Let us be an aide in your learning experience!  Come and see all that aviation and aerospace has to offer for your student. \nPrice: $2/person for museum entry; $2/person for one planetarium show$2/student (ages 12-18) for 30 min flight lab access! \nOptional activities with additional fee may vary from week to week\, such as stomp rockets\, 3D printers\, physics of flight\, etc.Students and children must be supervised by a guardian at all times.
URL:https://www.tulsamuseum.org/event/homeschool/2024-11-06/
LOCATION:Tulsa Air and Space Museum & Planetarium\, 3624 N 74th East Ave\, Tulsa\, OK\, 74115\, United States
CATEGORIES:For the Family
ATTACH;FMTTYPE=image/png:https://www.tulsamuseum.org/wp-content/uploads/2024/10/Slideshow-Size-8.png
END:VEVENT
BEGIN:VEVENT
DTSTART;TZID=America/Chicago:20241107T093000
DTEND;TZID=America/Chicago:20241107T103000
DTSTAMP:20260421T203751
CREATED:20241002T205630Z
LAST-MODIFIED:20241002T205914Z
UID:10000989-1730971800-1730975400@www.tulsamuseum.org
SUMMARY:Toddler Time!
DESCRIPTION:Join us for Toddler Time at TASM!\n			\n				\n				\n				\n				\n				Tuesdays at 9:45 — Enjoy engaging story time that takes your little ones on a cosmic adventure! \nThursdays 9:30-10:00 — Hands-on activities available that spark curiosity and creativity. \nThe ultimate experience for young explorers awaits! \nAdults $5 Toddlers $3 Infants 2 & under free!
URL:https://www.tulsamuseum.org/event/toddler-time/2024-11-07/
LOCATION:Tulsa Air and Space Museum & Planetarium\, 3624 N 74th East Ave\, Tulsa\, OK\, 74115\, United States
CATEGORIES:For the Family
ATTACH;FMTTYPE=image/png:https://www.tulsamuseum.org/wp-content/uploads/2024/07/toddler.png
END:VEVENT
BEGIN:VEVENT
DTSTART;TZID=America/Chicago:20241109T140000
DTEND;TZID=America/Chicago:20241109T183000
DTSTAMP:20260421T203751
CREATED:20240823T181326Z
LAST-MODIFIED:20241108T215325Z
UID:10000700-1731160800-1731177000@www.tulsamuseum.org
SUMMARY:CANCELED -- THE ARTIST & THE ASTRONAUT
DESCRIPTION:Get ready for an unforgettable experience! Join us for an exhilarating screening of The Artist & the Astronaut\, a remarkable film brought to life by Bill Muench\, the visionary behind the film\, and Todd Hobin\, the brilliant composer. \nABOUT THE FILM\nThe Artist & the Astronaut presents a compelling and improbable love story between artist Pat Musick\, a civil rights activist\, and Apollo astronaut Jerry Carr\, as they engage in some of the most significant events in human history. The film features exclusive\, previously unreleased footage of early space pioneers and includes interviews with prominent figures from that era\, such as Gene Kranz\, Al Bean\, Frank Borman\, Ed Gibson\, and Andrew Chaikin. It explores the divergent paths of Pat and Jerry as they navigate tumultuous times\, ultimately uniting to create some of America’s most cherished art. The Artist & the Astronaut stands as a tribute to the transformative power of curiosity\, perseverance\, and empathy. \nThe creation of this documentary mirrors the unexpected nature of its subject. Bill Muench\, a full-time teacher and basketball coach\, was inspired by his wife to undertake the project. Without a detailed plan or budget\, he embarked on this endeavor. Over the course of six years\, he traveled across nine states and two continents\, interviewing numerous Apollo astronauts\, their spouses\, acclaimed authors\, artists\, art historians\, and even NASA mission control directors. Collaborating with music legend Todd Hobin\, Muench brought to life a story that might otherwise have remained untold. \nPanel Q&A \nThe screening will take place in the planetarium\, followed by an engaging Q&A session with Bill\, Todd\, Mitch Rothman\, founder of Manned Space\, and Jerry Carr’s son\, Jeff Carr. \nJeff held several positions during his NASA career\, including Director of Public Affairs\, News Chief at NASA’s Johnson Space Center in Houston\, and Special Assistant to the NASA Administrator\, providing critical transition support and lending insight to key issues and activities for NASA during the early months of the Clinton Administration. He also served as press liaison for the Astronaut Corps and as the “Voice of Mission Control” for more than 40 Space Shuttle missions. Jeff holds three Telly Awards for national achievement in media production. \nDon’t miss out! Secure your spot and be part of this extraordinary event! \n \n			\n			\n				\n				\n				\n				\n				\n				Event Canceled
URL:https://www.tulsamuseum.org/event/artist-astronaut/
LOCATION:Tulsa Air and Space Museum & Planetarium\, 3624 N 74th East Ave\, Tulsa\, OK\, 74115\, United States
CATEGORIES:Special Events
ATTACH;FMTTYPE=image/png:https://www.tulsamuseum.org/wp-content/uploads/2024/09/Slideshow-Size-4.png
END:VEVENT
END:VCALENDAR