BEGIN:VCALENDAR
VERSION:2.0
PRODID:-//Tulsa Air &amp; Space Museum - ECPv6.15.20//NONSGML v1.0//EN
CALSCALE:GREGORIAN
METHOD:PUBLISH
X-ORIGINAL-URL:https://www.tulsamuseum.org
X-WR-CALDESC:Events for Tulsa Air &amp; Space Museum
REFRESH-INTERVAL;VALUE=DURATION:PT1H
X-Robots-Tag:noindex
X-PUBLISHED-TTL:PT1H
BEGIN:VTIMEZONE
TZID:America/Chicago
BEGIN:DAYLIGHT
TZOFFSETFROM:-0600
TZOFFSETTO:-0500
TZNAME:CDT
DTSTART:20230312T080000
END:DAYLIGHT
BEGIN:STANDARD
TZOFFSETFROM:-0500
TZOFFSETTO:-0600
TZNAME:CST
DTSTART:20231105T070000
END:STANDARD
BEGIN:DAYLIGHT
TZOFFSETFROM:-0600
TZOFFSETTO:-0500
TZNAME:CDT
DTSTART:20240310T080000
END:DAYLIGHT
BEGIN:STANDARD
TZOFFSETFROM:-0500
TZOFFSETTO:-0600
TZNAME:CST
DTSTART:20241103T070000
END:STANDARD
BEGIN:DAYLIGHT
TZOFFSETFROM:-0600
TZOFFSETTO:-0500
TZNAME:CDT
DTSTART:20250309T080000
END:DAYLIGHT
BEGIN:STANDARD
TZOFFSETFROM:-0500
TZOFFSETTO:-0600
TZNAME:CST
DTSTART:20251102T070000
END:STANDARD
END:VTIMEZONE
BEGIN:VEVENT
DTSTART;TZID=America/Chicago:20241112T093000
DTEND;TZID=America/Chicago:20241112T103000
DTSTAMP:20260421T203641
CREATED:20241002T205630Z
LAST-MODIFIED:20241002T205914Z
UID:10000990-1731403800-1731407400@www.tulsamuseum.org
SUMMARY:Toddler Time!
DESCRIPTION:Join us for Toddler Time at TASM!\n			\n				\n				\n				\n				\n				Tuesdays at 9:45 — Enjoy engaging story time that takes your little ones on a cosmic adventure! \nThursdays 9:30-10:00 — Hands-on activities available that spark curiosity and creativity. \nThe ultimate experience for young explorers awaits! \nAdults $5 Toddlers $3 Infants 2 & under free!
URL:https://www.tulsamuseum.org/event/toddler-time/2024-11-12/
LOCATION:Tulsa Air and Space Museum & Planetarium\, 3624 N 74th East Ave\, Tulsa\, OK\, 74115\, United States
CATEGORIES:For the Family
ATTACH;FMTTYPE=image/png:https://www.tulsamuseum.org/wp-content/uploads/2024/07/toddler.png
END:VEVENT
BEGIN:VEVENT
DTSTART;TZID=America/Chicago:20241112T100000
DTEND;TZID=America/Chicago:20241116T160000
DTSTAMP:20260421T203641
CREATED:20241106T225118Z
LAST-MODIFIED:20241106T225629Z
UID:10001017-1731405600-1731772800@www.tulsamuseum.org
SUMMARY:Veterans Day
DESCRIPTION:Honoring Our Veterans\n			\n				\n				\n				\n				\n				This Veterans Day\, we’re proud to give back to those who’ve given so much. In honor of your service and sacrifice\, we’re offering a special discount to all veterans and active-duty military personnel. Simply show your military ID at checkout to enjoy this exclusive offer as a small token of our appreciation. \nNov. 12-16 – All general admission tickets (museum\, planetarium\, or combination ticket) are free for veterans and active military.For guests of military\, up to 4 tickets may be purchased at 50% off. \nPrices available in person. Thank you for your service!
URL:https://www.tulsamuseum.org/event/veterans-day/
LOCATION:Tulsa Air and Space Museum & Planetarium\, 3624 N 74th East Ave\, Tulsa\, OK\, 74115\, United States
CATEGORIES:Special Days
ATTACH;FMTTYPE=image/png:https://www.tulsamuseum.org/wp-content/uploads/2024/11/Slideshow-Size-14.png
END:VEVENT
BEGIN:VEVENT
DTSTART;TZID=America/Chicago:20241113T100000
DTEND;TZID=America/Chicago:20241113T160000
DTSTAMP:20260421T203641
CREATED:20241002T152125Z
LAST-MODIFIED:20241002T200912Z
UID:10000755-1731492000-1731513600@www.tulsamuseum.org
SUMMARY:Homeschool Hub
DESCRIPTION:Families\, we want to support you! \n			\n				\n				\n				\n				\n				 Whether you are a single family or a co-op\, we would love to have you here at TASM on Wednesdays. Let us be an aide in your learning experience!  Come and see all that aviation and aerospace has to offer for your student. \nPrice: $2/person for museum entry; $2/person for one planetarium show$2/student (ages 12-18) for 30 min flight lab access! \nOptional activities with additional fee may vary from week to week\, such as stomp rockets\, 3D printers\, physics of flight\, etc.Students and children must be supervised by a guardian at all times.
URL:https://www.tulsamuseum.org/event/homeschool/2024-11-13/
LOCATION:Tulsa Air and Space Museum & Planetarium\, 3624 N 74th East Ave\, Tulsa\, OK\, 74115\, United States
CATEGORIES:For the Family
ATTACH;FMTTYPE=image/png:https://www.tulsamuseum.org/wp-content/uploads/2024/10/Slideshow-Size-8.png
END:VEVENT
BEGIN:VEVENT
DTSTART;VALUE=DATE:20241114
DTEND;VALUE=DATE:20241115
DTSTAMP:20260421T203641
CREATED:20241101T172603Z
LAST-MODIFIED:20241101T172610Z
UID:10001016-1731542400-1731628799@www.tulsamuseum.org
SUMMARY:Planetarium Closed for Private Event
DESCRIPTION:ALL planetarium shows will be canceled today\, November 14\, 2024\, due to a private event. \nThank you for understanding!
URL:https://www.tulsamuseum.org/event/plnt-closing-nov-14/
LOCATION:Tulsa Air and Space Museum & Planetarium\, 3624 N 74th East Ave\, Tulsa\, OK\, 74115\, United States
CATEGORIES:Announcements,Closings,Planetarium
ATTACH;FMTTYPE=image/png:https://www.tulsamuseum.org/wp-content/uploads/2024/08/TASM-Logo-Wide-3035-2350.png
END:VEVENT
BEGIN:VEVENT
DTSTART;TZID=America/Chicago:20241114T093000
DTEND;TZID=America/Chicago:20241114T103000
DTSTAMP:20260421T203641
CREATED:20241002T205630Z
LAST-MODIFIED:20241002T205914Z
UID:10000991-1731576600-1731580200@www.tulsamuseum.org
SUMMARY:Toddler Time!
DESCRIPTION:Join us for Toddler Time at TASM!\n			\n				\n				\n				\n				\n				Tuesdays at 9:45 — Enjoy engaging story time that takes your little ones on a cosmic adventure! \nThursdays 9:30-10:00 — Hands-on activities available that spark curiosity and creativity. \nThe ultimate experience for young explorers awaits! \nAdults $5 Toddlers $3 Infants 2 & under free!
URL:https://www.tulsamuseum.org/event/toddler-time/2024-11-14/
LOCATION:Tulsa Air and Space Museum & Planetarium\, 3624 N 74th East Ave\, Tulsa\, OK\, 74115\, United States
CATEGORIES:For the Family
ATTACH;FMTTYPE=image/png:https://www.tulsamuseum.org/wp-content/uploads/2024/07/toddler.png
END:VEVENT
BEGIN:VEVENT
DTSTART;TZID=America/Chicago:20241116T163000
DTEND;TZID=America/Chicago:20241116T203000
DTSTAMP:20260421T203641
CREATED:20240903T142911Z
LAST-MODIFIED:20241202T205438Z
UID:10000744-1731774600-1731789000@www.tulsamuseum.org
SUMMARY:Beautifica
DESCRIPTION:
URL:https://www.tulsamuseum.org/event/beautifica360/2024-11-16/
LOCATION:Tulsa Air and Space Museum & Planetarium\, 3624 N 74th East Ave\, Tulsa\, OK\, 74115\, United States
CATEGORIES:Mesmerica,Planetarium
ATTACH;FMTTYPE=image/png:https://www.tulsamuseum.org/wp-content/uploads/2024/08/Screenshot-2024-08-20-140554.png
ORGANIZER;CN="James Hood":MAILTO:boxoffice@jameshood.com
END:VEVENT
END:VCALENDAR